BEGIN:VCALENDAR
VERSION:2.0
PRODID:-//UPPAA - ECPv6.15.20//NONSGML v1.0//EN
CALSCALE:GREGORIAN
METHOD:PUBLISH
X-ORIGINAL-URL:https://www.uppaa.org
X-WR-CALDESC:Events for UPPAA
REFRESH-INTERVAL;VALUE=DURATION:PT1H
X-Robots-Tag:noindex
X-PUBLISHED-TTL:PT1H
BEGIN:VTIMEZONE
TZID:America/Detroit
BEGIN:DAYLIGHT
TZOFFSETFROM:-0500
TZOFFSETTO:-0400
TZNAME:EDT
DTSTART:20220313T070000
END:DAYLIGHT
BEGIN:STANDARD
TZOFFSETFROM:-0400
TZOFFSETTO:-0500
TZNAME:EST
DTSTART:20221106T060000
END:STANDARD
BEGIN:DAYLIGHT
TZOFFSETFROM:-0500
TZOFFSETTO:-0400
TZNAME:EDT
DTSTART:20230312T070000
END:DAYLIGHT
BEGIN:STANDARD
TZOFFSETFROM:-0400
TZOFFSETTO:-0500
TZNAME:EST
DTSTART:20231105T060000
END:STANDARD
BEGIN:DAYLIGHT
TZOFFSETFROM:-0500
TZOFFSETTO:-0400
TZNAME:EDT
DTSTART:20240310T070000
END:DAYLIGHT
BEGIN:STANDARD
TZOFFSETFROM:-0400
TZOFFSETTO:-0500
TZNAME:EST
DTSTART:20241103T060000
END:STANDARD
END:VTIMEZONE
BEGIN:VEVENT
DTSTART;TZID=America/Detroit:20230601T080000
DTEND;TZID=America/Detroit:20230601T170000
DTSTAMP:20260423T045115
CREATED:20230108T161411Z
LAST-MODIFIED:20230108T161411Z
UID:8285-1685606400-1685638800@www.uppaa.org
SUMMARY:U.P. Reader #8 Submissions open
DESCRIPTION:Submissions for U.P. Reader #8 will be allowed between June 1st 2022 and Nov 15th 2023 \nSubmission Guidelines \n \n 
URL:https://www.uppaa.org/event/u-p-reader-8-submissions-open/
LOCATION:Michigan
ORGANIZER;CN="Deborah K. Frontiera":MAILTO:deborahkfrontiera@gmail.com
END:VEVENT
BEGIN:VEVENT
DTSTART;TZID=America/Detroit:20230608T190000
DTEND;TZID=America/Detroit:20230608T200000
DTSTAMP:20260423T045115
CREATED:20230513T113727Z
LAST-MODIFIED:20230513T113727Z
UID:8798-1686250800-1686254400@www.uppaa.org
SUMMARY:U.P. Notable Book Club - North of Nelson with Hilton Everett Moore
DESCRIPTION:UP Notable Book Club presents a Q&A session with Hilton Everett Moore about “North of Nelson: Stories of Michigan’s Upper Peninsula – Volume 1”\nUP Notable Book Club:  the Crystal Falls Community District Library in partnership with the U.P. Publishers & Authors Association (UPPAA) has scheduled author events with winners of the UP Notable Book List. The 28th event is with Hilton Everett Moore’s debut short story collection North of Nelson: Stories of Michigan’s Upper Peninsula – Volume 1. Follow the ups and downs of residents over a span of 150 years in a fictional small community somewhere in Baraga County in Michigan’s Upper Peninsula.  Some have compared the series from Silver Mountain Press to a Michener saga\, albeit on a smaller scale. You can enjoy the book in paperback\, hardcover\, eBook\, and audiobook editions. \nWhen: June 8th\, 2023 at 7 pm Eastern / 6 pm Central\nWhere: on the Zoom platform — please contact Evelyn Gathu in advance by egathu@crystalfallslibrary.org\, or by phone at (906) 875-3344. We recommend you borrow a copy of these books from your local library or purchase from your local bookseller in advance to get the most out of these events.  \nHILTON EVERETT MOORE is a published short story author who lives and writes at his remote cabin in the near wilderness of Baraga County in the Upper Peninsula of Michigan. He has held many positions in his life including: a stint as a kennel man for a Humane Society\, a factory worker\, later as a certified pipe welder in the oil fields of West Texas\, and also as an assistant manager of a lumber company. Ironically in a chapter he would like to forget\, a gut-wrenching failed attempt at owning a restaurant. After a midlife crisis he went back to college and received a Master’s Degree in Social Work. Upon graduation\, he was employed in the Michigan prison system as a Clinical Social Worker. Presently he enjoys writing in his cabin in the wilderness. He likes to fish with worms.. \nThe short stories\, such as “A Shotgun Wedding”\, in North of Nelson are relatable to anyone. In this chapter\, a woman felt forced to get married because of pregnancy and then found out she was not happy with the result. Many people have struggled when it came to pets and they were presented with problems that were not easily solved which was described in the chapter called “A Dog Named Bunny.” And the situation described in “The Irascible Pedagogue” is equally relatable. If only the protagonist had asked her to dance with him instead of getting cold feet\, things would have turned out so much differently. That story reminded me of the movie My Best Friend’s Wedding with Julia Roberts. Julia’s character did a whole host of things to win back her friend and take him from the person he was going to marry. \nI recommend this book because of the stories filled with touching moments about real-life situations and how the characters struggled to overcome their life challenges. Sometimes a problem took on a whole new life of its own without any solution. Moore provided the reader with the ramifications of many of the hardships the characters in his stories faced. I wanted to find out what was going to happen to the well-developed characters\, individuals who resembled people I have met throughout my life. Moore brought to life the pain Nimkii experienced as a Native American woman and the pain of loneliness for a boy while he dealt with polio. I highly recommend North of Nelson\, Vol. 1 if you want to learn more about life during The Depression\, about life at the Baraga orphanage\, and other experiences from the past concerning the characters from Moore’s book who lived in the Upper Peninsula of Michigan.  — read the full review by Sharon Brunner\, U.P. Book Review \nMore information about the U.P. Notable Book list\, U.P. Book Review\, and UPPAA can be found on www.UPNotable.com \n  \nAbout the Upper Peninsula Publishers and Authors Association (UPPAA) \nEstablished in 1998 to support authors and publishers who live in or write about Michigan’s Upper Peninsula\, UPPAA is a Michigan nonprofit association with more than 100 members\, many of whose books are featured on the organization’s website at www.uppaa.org. UPPAA welcomes membership and participation from anyone with a UP connection who is interested in writing. # # #
URL:https://www.uppaa.org/event/u-p-notable-book-club-north-of-nelson-with-hilton-everett-moore/
LOCATION:Zoom
CATEGORIES:U.P. Notable Book Club
ORGANIZER;CN="Evelyn Gathu":MAILTO:egathu@crystalfallslibrary.org
END:VEVENT
BEGIN:VEVENT
DTSTART;TZID=America/Detroit:20230610T093000
DTEND;TZID=America/Detroit:20230610T170000
DTSTAMP:20260423T045115
CREATED:20221227T145415Z
LAST-MODIFIED:20221227T145415Z
UID:8261-1686389400-1686416400@www.uppaa.org
SUMMARY:UPPAA Spring Conference
DESCRIPTION:Schedule to be announced. \nAlways free-of-charge for current UPPAA Members!
URL:https://www.uppaa.org/event/uppaa-spring-conference-2/
LOCATION:Peter White Public Library\, 217 N Front St\, Marquette\, MI\, 49855\, United States
CATEGORIES:Annual Conference
END:VEVENT
END:VCALENDAR