BEGIN:VCALENDAR
VERSION:2.0
PRODID:-//UPPAA - ECPv6.15.20//NONSGML v1.0//EN
CALSCALE:GREGORIAN
METHOD:PUBLISH
X-WR-CALNAME:UPPAA
X-ORIGINAL-URL:https://www.uppaa.org
X-WR-CALDESC:Events for UPPAA
REFRESH-INTERVAL;VALUE=DURATION:PT1H
X-Robots-Tag:noindex
X-PUBLISHED-TTL:PT1H
BEGIN:VTIMEZONE
TZID:America/Detroit
BEGIN:DAYLIGHT
TZOFFSETFROM:-0500
TZOFFSETTO:-0400
TZNAME:EDT
DTSTART:20250309T070000
END:DAYLIGHT
BEGIN:STANDARD
TZOFFSETFROM:-0400
TZOFFSETTO:-0500
TZNAME:EST
DTSTART:20251102T060000
END:STANDARD
BEGIN:DAYLIGHT
TZOFFSETFROM:-0500
TZOFFSETTO:-0400
TZNAME:EDT
DTSTART:20260308T070000
END:DAYLIGHT
BEGIN:STANDARD
TZOFFSETFROM:-0400
TZOFFSETTO:-0500
TZNAME:EST
DTSTART:20261101T060000
END:STANDARD
BEGIN:DAYLIGHT
TZOFFSETFROM:-0500
TZOFFSETTO:-0400
TZNAME:EDT
DTSTART:20270314T070000
END:DAYLIGHT
BEGIN:STANDARD
TZOFFSETFROM:-0400
TZOFFSETTO:-0500
TZNAME:EST
DTSTART:20271107T060000
END:STANDARD
END:VTIMEZONE
BEGIN:VEVENT
DTSTART;TZID=America/Detroit:20260325T190000
DTEND;TZID=America/Detroit:20260325T200000
DTSTAMP:20260420T084804
CREATED:20260304T134207Z
LAST-MODIFIED:20260304T134207Z
UID:10569-1774465200-1774468800@www.uppaa.org
SUMMARY:March Memoir Writing Course
DESCRIPTION:Story Spring Course—Write a Memoir  \n\n\n\nMemoir Writing Course\n\nMemoir Writing Course \nBegins Wednesday\, March 25 \nWednesdays at 7 pm Eastern Time  \nMarch 25\, April 1\, 8\, 15\, & 22 \nDetails \nThis five-week Memoir Writing Course is designed for writers who are in the beginning or middle of a memoir project. It will help you focus on the most important aspects of crafting a memoir and manuscript. In the first week\, we will hone in on your theme and purpose so you can identify the most important stories to share. In the following weeks\, you will learn how to use vivid\, honest details to introduce the people and places in your life onto the page. Finally\, we will focus on structure. Learning to organize scenes and chapters well will help you sustain your reader’s interest from beginning to end. These classes will help you build strong writing habits and avoid common pitfalls. The journaling handbook (free with the course) will serve as a workbook throughout the five weeks. Many of the exercises will be explained in depth and practiced together in class. In addition\, you will receive more resources\, and there will be plenty of time for questions and discussions.  \nFor more information: ​https://www.storyspringwriting.com/memoir-writing​ \nFind the right package for you!  \n\n\nCourse with handbook: $150 \nCourse with coaching: $249\nScholarships are available.\n\nContact with questions:  Rehema@StorySpringWriting.com or  Rehema.Clarken@Outlook.com
URL:https://www.uppaa.org/event/march-memoir-writing-course/
LOCATION:Zoom
CATEGORIES:Seminar
END:VEVENT
END:VCALENDAR