BEGIN:VCALENDAR
VERSION:2.0
PRODID:-//UPPAA - ECPv6.15.20//NONSGML v1.0//EN
CALSCALE:GREGORIAN
METHOD:PUBLISH
X-WR-CALNAME:UPPAA
X-ORIGINAL-URL:https://www.uppaa.org
X-WR-CALDESC:Events for UPPAA
REFRESH-INTERVAL;VALUE=DURATION:PT1H
X-Robots-Tag:noindex
X-PUBLISHED-TTL:PT1H
BEGIN:VTIMEZONE
TZID:America/Detroit
BEGIN:DAYLIGHT
TZOFFSETFROM:-0500
TZOFFSETTO:-0400
TZNAME:EDT
DTSTART:20250309T070000
END:DAYLIGHT
BEGIN:STANDARD
TZOFFSETFROM:-0400
TZOFFSETTO:-0500
TZNAME:EST
DTSTART:20251102T060000
END:STANDARD
BEGIN:DAYLIGHT
TZOFFSETFROM:-0500
TZOFFSETTO:-0400
TZNAME:EDT
DTSTART:20260308T070000
END:DAYLIGHT
BEGIN:STANDARD
TZOFFSETFROM:-0400
TZOFFSETTO:-0500
TZNAME:EST
DTSTART:20261101T060000
END:STANDARD
BEGIN:DAYLIGHT
TZOFFSETFROM:-0500
TZOFFSETTO:-0400
TZNAME:EDT
DTSTART:20270314T070000
END:DAYLIGHT
BEGIN:STANDARD
TZOFFSETFROM:-0400
TZOFFSETTO:-0500
TZNAME:EST
DTSTART:20271107T060000
END:STANDARD
END:VTIMEZONE
BEGIN:VEVENT
DTSTART;VALUE=DATE:20260328
DTEND;VALUE=DATE:20260329
DTSTAMP:20260423T045256
CREATED:20251216T182524Z
LAST-MODIFIED:20251216T182524Z
UID:10428-1774656000-1774742399@www.uppaa.org
SUMMARY:Sara Maurer to feature "A Good Animal" at Hessel School House
DESCRIPTION:Sara Maurer to feature “A Good Animal” at Hessel School House for a book reading and signing event at Hessel School House on March 28\, 2026  (time to be announced later)   \nSee https://hesselschoolhouse.org/ for details \n 
URL:https://www.uppaa.org/event/sara-maurer-to-feature-a-good-animal-at-hessel-school-house/
LOCATION:Hessel School House\, 3206 W. Cedar Road\, Hesssel\, MI\, 49745\, United States
CATEGORIES:Author Appearance
ORGANIZER;CN="Kristy Beyer":MAILTO:director@hesselschoolhouse.net
END:VEVENT
END:VCALENDAR